BEGIN:VCALENDAR
VERSION:2.0
PRODID:icalendar-ruby
CALSCALE:GREGORIAN
METHOD:PUBLISH
BEGIN:VTIMEZONE
TZID:Australia/Brisbane
BEGIN:STANDARD
DTSTART:19920301T020000
TZOFFSETFROM:+1100
TZOFFSETTO:+1000
TZNAME:AEST
END:STANDARD
END:VTIMEZONE
BEGIN:VEVENT
DTSTAMP:20260420T010610Z
UID:inspection_3003721
DTSTART;TZID=Australia/Brisbane:20260422T170014
DTEND;TZID=Australia/Brisbane:20260422T173014
CLASS:PUBLIC
CREATED:20260420T080635
DESCRIPTION: 
LAST-MODIFIED:20260420T080635
LOCATION:34 Percy Earl Crescent\, PIMPAMA QLD 4209\, Australia
SUMMARY:34 Percy Earl Crescent\,  Inspection
URL;VALUE=URI:http://www.smartrealestate.com.au/
END:VEVENT
END:VCALENDAR
