BEGIN:VCALENDAR
VERSION:2.0
PRODID:icalendar-ruby
CALSCALE:GREGORIAN
METHOD:PUBLISH
BEGIN:VTIMEZONE
TZID:Australia/Brisbane
BEGIN:STANDARD
DTSTART:19920301T020000
TZOFFSETFROM:+1100
TZOFFSETTO:+1000
TZNAME:AEST
END:STANDARD
END:VTIMEZONE
BEGIN:VEVENT
DTSTAMP:20260421T110346Z
UID:inspection_3007993
DTSTART;TZID=Australia/Brisbane:20260422T160021
DTEND;TZID=Australia/Brisbane:20260422T161521
CLASS:PUBLIC
CREATED:20260421T163339
DESCRIPTION: 
LAST-MODIFIED:20260421T163339
LOCATION:20 Carner Court\, PARKWOOD QLD 4214\, Australia
SUMMARY:20 Carner Court\,  Inspection
URL;VALUE=URI:http://www.smartrealestate.com.au/
END:VEVENT
END:VCALENDAR
