BEGIN:VCALENDAR
VERSION:2.0
PRODID:icalendar-ruby
CALSCALE:GREGORIAN
METHOD:PUBLISH
BEGIN:VTIMEZONE
TZID:Australia/Brisbane
BEGIN:STANDARD
DTSTART:19920301T020000
TZOFFSETFROM:+1100
TZOFFSETTO:+1000
TZNAME:AEST
END:STANDARD
END:VTIMEZONE
BEGIN:VEVENT
DTSTAMP:20260423T053650Z
UID:inspection_3011075
DTSTART;TZID=Australia/Brisbane:20260426T093059
DTEND;TZID=Australia/Brisbane:20260426T100059
CLASS:PUBLIC
CREATED:20260423T131717
DESCRIPTION: 
LAST-MODIFIED:20260423T131738
LOCATION:4 Riverdowns Crescent\, HELENSVALE QLD 4212\, Australia
SUMMARY:4 Riverdowns Crescent\,  Inspection
URL;VALUE=URI:http://www.smartrealestate.com.au/
END:VEVENT
END:VCALENDAR
